BEGIN:VCALENDAR
VERSION:2.0
PRODID:-//THE SAFE PLACE MINISTRIES, A NONPROFIT ORGANIZATION 501c3 CERTIFIED - ECPv6.15.20//NONSGML v1.0//EN
CALSCALE:GREGORIAN
METHOD:PUBLISH
X-WR-CALNAME:THE SAFE PLACE MINISTRIES, A NONPROFIT ORGANIZATION 501c3 CERTIFIED
X-ORIGINAL-URL:https://thesafeplaceministries.org
X-WR-CALDESC:Events for THE SAFE PLACE MINISTRIES, A NONPROFIT ORGANIZATION 501c3 CERTIFIED
REFRESH-INTERVAL;VALUE=DURATION:PT1H
X-Robots-Tag:noindex
X-PUBLISHED-TTL:PT1H
BEGIN:VTIMEZONE
TZID:UTC
BEGIN:STANDARD
TZOFFSETFROM:+0000
TZOFFSETTO:+0000
TZNAME:UTC
DTSTART:20230101T000000
END:STANDARD
END:VTIMEZONE
BEGIN:VEVENT
DTSTART;TZID=UTC:20241108T190000
DTEND;TZID=UTC:20241109T110000
DTSTAMP:20260421T194518
CREATED:20240805T131619Z
LAST-MODIFIED:20240806T143110Z
UID:383-1731092400-1731150000@thesafeplaceministries.org
SUMMARY:Wives Masterclass Dallas: Finale
DESCRIPTION:REGISTER HERE: https://form.jotform.com/242084087092154
URL:https://thesafeplaceministries.org/event/wives-masterclass-dallas-finale/
END:VEVENT
END:VCALENDAR