BEGIN:VCALENDAR
VERSION:2.0
PRODID:-//THE SAFE PLACE MINISTRIES, A NONPROFIT ORGANIZATION 501c3 CERTIFIED - ECPv6.15.20//NONSGML v1.0//EN
CALSCALE:GREGORIAN
METHOD:PUBLISH
X-ORIGINAL-URL:https://thesafeplaceministries.org
X-WR-CALDESC:Events for THE SAFE PLACE MINISTRIES, A NONPROFIT ORGANIZATION 501c3 CERTIFIED
REFRESH-INTERVAL;VALUE=DURATION:PT1H
X-Robots-Tag:noindex
X-PUBLISHED-TTL:PT1H
BEGIN:VTIMEZONE
TZID:UTC
BEGIN:STANDARD
TZOFFSETFROM:+0000
TZOFFSETTO:+0000
TZNAME:UTC
DTSTART:20220101T000000
END:STANDARD
END:VTIMEZONE
BEGIN:VEVENT
DTSTART;TZID=UTC:20231209T160000
DTEND;TZID=UTC:20231209T190000
DTSTAMP:20260422T220524
CREATED:20231023T145400Z
LAST-MODIFIED:20231023T145400Z
UID:354-1702137600-1702148400@thesafeplaceministries.org
SUMMARY:Apostolic Affirmation Service
DESCRIPTION:
URL:https://thesafeplaceministries.org/event/apostolic-affirmation-service/
LOCATION:First Christian Church\, 610 E. Beltline Road\, DeSoto\, TX\, 75115\, United States
END:VEVENT
END:VCALENDAR