BEGIN:VCALENDAR
VERSION:2.0
PRODID:-//THE SAFE PLACE MINISTRIES, A NONPROFIT ORGANIZATION 501c3 CERTIFIED - ECPv6.15.20//NONSGML v1.0//EN
CALSCALE:GREGORIAN
METHOD:PUBLISH
X-ORIGINAL-URL:https://thesafeplaceministries.org
X-WR-CALDESC:Events for THE SAFE PLACE MINISTRIES, A NONPROFIT ORGANIZATION 501c3 CERTIFIED
REFRESH-INTERVAL;VALUE=DURATION:PT1H
X-Robots-Tag:noindex
X-PUBLISHED-TTL:PT1H
BEGIN:VTIMEZONE
TZID:UTC
BEGIN:STANDARD
TZOFFSETFROM:+0000
TZOFFSETTO:+0000
TZNAME:UTC
DTSTART:20230101T000000
END:STANDARD
END:VTIMEZONE
BEGIN:VEVENT
DTSTART;TZID=UTC:20240309T100000
DTEND;TZID=UTC:20240309T130000
DTSTAMP:20260423T005915
CREATED:20231228T233427Z
LAST-MODIFIED:20240119T135414Z
UID:358-1709978400-1709989200@thesafeplaceministries.org
SUMMARY:Wives Masterclass Dallas: The Intentional Marriage
DESCRIPTION:REGISTER HERE: https://form.jotform.com/233544067446156
URL:https://thesafeplaceministries.org/event/wives-masterclass-dallas-the-intentional-marriage/
LOCATION:First Christian Church\, 610 E. Beltline Road\, DeSoto\, TX\, 75115\, United States
END:VEVENT
END:VCALENDAR